


BEGIN:VCALENDAR
VERSION:2.0
PRODID:-//Museozoom.be v2016//EN
BEGIN:VEVENT
STATUS:CONFIRMED
DTSTART:20220402
DTEND:19700101
SUMMARY:Viens t'a(musées) ! au Musée de Folklore Vie frontalière
DESCRIPTION:Profitez des vacances pour effectuer le nouveau parcours famille « 20 fois sur le métier, remettez votre ouvrage » !Vous irez à la rencontre de 20 métiers, parfois disparus ou simplement oubliés, mais aussi de professions actuelles qui existent depuis des générations. Un carnet d’activités vous guidera dans le monde des conducteurs de tram, fileuses, cabaretières, douaniers, cantonniers, buresses… et vous mettra à l’épreuve.C’est donc l’occasion idéale de découvrir en s’amusant et de passer un moment dynamique en famille au Musée de Folklore vie Frontalière !Du mardi au vendredi, de 10h à 18h. Le samedi et le dimanche, de 14h à 18h. Fermé les jours fériés.Adulte 5€ / senior 4€ / enfant +6 ans &gt; étudiant 2€ / enfant -6ans : gratuit / ticket Famille : 10€ (habitant sous le même toit)Le livret d’activité est compris dans le prix d’entréeRéservation souhaitée
LOCATION:Rue de la Station, 147700 Mouscron
END:VEVENT
END:VCALENDAR