


BEGIN:VCALENDAR
VERSION:2.0
PRODID:-//Museozoom.be v2016//EN
BEGIN:VEVENT
STATUS:CONFIRMED
DTSTART:19700101
DTEND:19700101
SUMMARY:Viens t'a(musées) ! au Pôle muséal montois
DESCRIPTION:Participe à une chasse aux œufs de dragon au Musée du Doudou ! Cachés dans les recoins du musée, retrouve les œufs et découvre le mot de passe qui te donnera accès au trésor.Le 16 avril 2022, de 10h à 16h2€/personneRéservation obligatoire
LOCATION:Jardin du Mayeur7000 Mons
END:VEVENT
END:VCALENDAR