


BEGIN:VCALENDAR
VERSION:2.0
PRODID:-//Museozoom.be v2016//EN
BEGIN:VEVENT
STATUS:CONFIRMED
DTSTART:20220407
DTEND:19700101
SUMMARY:Viens t'a(musées) ! au MACS
DESCRIPTION:1. Ce jeudi 7 avril, à 11h, viens expérimenter la technique colorée du papier marbré après la découverte en famille des expositions Aline Bouvy. Cruising Bye et Gaillard &amp; Claude. A Certain Decade au MACS. À partir de 6 ansEnsuite, à 14h, tu pourras prendre part à l’atelier « Poudre de brique » au CID. Afin d’expérimenter la forme pigmentée de la brique, il sera proposé dans cet atelier la création d’une épreuve artistique avec l’application de la colle et la projection de poudre de brique.Durée : 2h (visite + atelier)Le 7 avril 2022, à 11h et à 14h (1h15 : visite + atelier)GratuitRéservation obligatoire via l’adresse mail reservation@grand-hornu.be&nbsp;2. Le 14 avril, à 11h, viens expérimenter la technique colorée du papier marbré après la découverte en famille des expositions Aline Bouvy. Cruising Bye et Gaillard &amp; Claude. A Certain Decade au MACS. À partir de 6 ansEnsuite à 14h, viens prendre part à l’atelier « Tête de Brique » au CIDVous passerez un bon moment autour de l’exposition La Brique hors les murs avec l’activité Tête de Brique.L’utilisation de la brique en construction génère des chutes destinées à la benne. Le studio Aequo s’engage à réutiliser ces rebuts avec 3 techniques, notamment l’assemblage. Cette technique sera expérimentée dans un atelier qui propose la création d’une sculpture du type mini totem “visage” en assemblant des éléments récupérés autour d’une chute de brique avec des liens non permanents (élastique, corde, scotch).Le 14 avril, à 11h et 14h (2h : visite + atelier)Gratuit (moyennant le paiement du droit d’entrée aux expositions)Réservation obligatoire via l’adresse mail reservation@grand-hornu.be
LOCATION:Rue Sainte-Louise 827301 Hornu
END:VEVENT
END:VCALENDAR