


BEGIN:VCALENDAR
VERSION:2.0
PRODID:-//Museozoom.be v2016//EN
BEGIN:VEVENT
STATUS:CONFIRMED
DTSTART:20220409
DTEND:19700101
SUMMARY:Viens t'a(musées) ! au Centre de la Gravure et de l'Image imprimée
DESCRIPTION:« Un futur pour la culture » accueille depuis janvier 2021 quatre artistes : le duo Denicolai &amp; Provoost, Eleni Kamma et Delphine Deguislage.Ces artistes ont développé des projets de recherche ancrés dans le territoire de la région du Centre.Leurs recherches se concrétisent dans trois expositions qui présentent les expérimentations et oeuvres réalisées ainsi qu’une sélection d’oeuvres issues des collections du Centre de la Gravure et du Daily-Bul &amp; Co.Viens les découvrir à travers notre parcours-jeux ou à l’aide de nos accessoires (sacs ludique et Barda jeux) pour une visite super amusante !Du 9 avril au 24 juillet 2022De 3 à 8€/personneRéservation souhaitée
LOCATION:Rue des Amours 107100 La Louvière
END:VEVENT
END:VCALENDAR