


BEGIN:VCALENDAR
VERSION:2.0
PRODID:-//Museozoom.be v2016//EN
BEGIN:VEVENT
STATUS:CONFIRMED
DTSTART:20220406
DTEND:19700101
SUMMARY:Viens t'a(musées) ! à la Maison des Mégalithes
DESCRIPTION:La Maison des Mégalithes t’invite à participer à son action « Viens t’a (musées) ! »Le mode de vie Néolithique t’a toujours intrigué ? Tu as envie de découvrir comment les Préhistoriques produisaient leurs poteries ? Alors ce stage est fait pour toi ! La Maison des Mégalithes t’invite à réaliser tes propres pots en colombins et statuettes en argile de A à Z avec Anne Paquay, potière professionnelle. Le premier mercredi sera consacré à la confection de tes œuvres, le second à la construction du four et à la cuisson. Enfin, tes créations seront mises en évidence au sein de notre musée ! Tu pourras venir les récupérer début mai, après avoir été admiré par le grand public.Les 6 et 13 avril 2022, de 14h à 16h.10€/enfant pour les deux jours.Réservation obligatoire
LOCATION:Place Arsène Soreil, 7 – 6940 Wéris
END:VEVENT
END:VCALENDAR