


BEGIN:VCALENDAR
VERSION:2.0
PRODID:-//Museozoom.be v2016//EN
BEGIN:VEVENT
STATUS:CONFIRMED
DTSTART:20220404
DTEND:19700101
SUMMARY:Viens t'a(musées) ! au Musée de la Banque nationale
DESCRIPTION:Un bateau pirate accostera une toute dernière fois au Musée de la Banque nationale pendant les congés de printemps et son capitaine recrute un nouvel équipage. Monte à bord et suis la carte pour retrouver le trésor caché sur l’île des Francs Perdus. À la fin de ta visite, prends-toi en photo avec ton cache-oeil fait-main et repars avec tes billets de banque personnalisés !Du 4 au 14 avril 2022, de 9h à 17h (fermé le 15 avril)Activité gratuiteRéservation pas nécessaire
LOCATION:Rue Montagne aux Herbes Potagères, 571000 Bruxelles
END:VEVENT
END:VCALENDAR