


BEGIN:VCALENDAR
VERSION:2.0
PRODID:-//Museozoom.be v2016//EN
BEGIN:VEVENT
STATUS:CONFIRMED
DTSTART:20220405
DTEND:19700101
SUMMARY:Viens t'a(musées) ! au Palais du Coudenberg
DESCRIPTION:WAOUW : des coffres à surprise(s) pour apprendre et s’amuser.Tu veux explorer ? Deviner ? Retrouver ? Créer ? Rigoler ? Raconter ? Empare-toi des coffres Waouw !Comment ça se passe ?À l’accueil, tu reçois une clé qui ouvre des coffres contenant chacun des activités variées permettant de découvrir un aspect du palais du Coudenberg : sa construction, son histoire, la collection d’objets archéologiques, le métier d’archéologue… Les jeux, qui se jouent seuls ou à plusieurs, te permettront de découvrir de manière amusante l’ancien palais de Bruxelles.Du 5 au 16 avril 2022 (du mardi au samedi), de 10h à 18h.4€/enfant, 10€/adulte, 8€/senior, 1,25€/Article 27Réservation obligatoire via le site web ou par téléphone
LOCATION:Place des Palais 71000 Bruxelles 
END:VEVENT
END:VCALENDAR