


BEGIN:VCALENDAR
VERSION:2.0
PRODID:-//Museozoom.be v2016//EN
BEGIN:VEVENT
STATUS:CONFIRMED
DTSTART:19700101
DTEND:19700101
SUMMARY:Nuit au musée - MACS
DESCRIPTION:Dès la nuit tombée, passe les portes du musée pour un escape game et tente de décrypter les nombreuses énigmes éparpillées dans les salles. Un bon repas ainsi qu’un film attendront les enquêteurs en herbe avant de laisser s’endormir le musée pour de bon.18h &#8211; 21h309 &#8211; 12 ans15 € (repas compris)Infos et réservations : +32 (0)65 613 902 / reservations@grand-hornu.be
LOCATION:Rue Sainte-Louise 827301 Hornu
END:VEVENT
END:VCALENDAR