


BEGIN:VCALENDAR
VERSION:2.0
PRODID:-//Museozoom.be v2016//EN
BEGIN:VEVENT
STATUS:CONFIRMED
DTSTART:19700101
DTEND:19700101
SUMMARY:Instant famille au Musée de Folklore Vie frontalière
DESCRIPTION:Autour d’une barrière de douane devenue inutile, quatre gardes amusent les visiteurs en montrant des trucs et des tours.« Barrière » est un spectacle de cirque bien drôle. Les artistes sont acrobates, musiciens et comédiens. Deux représentations sont prévues : à 15h30 et 16h30.Pour découvrir le très beau jardin du Musée, un jeu de piste est aussi proposé de 14h à 18h. Le but sera de retrouver la marchandise cachée par des fraudeurs. Des indices permettront de retrouver le butin, mais attention aux douaniers !Date : dimanche 22 mai 2022Horaire : de 14 à 18h / spectacle à 15h30 et 16h30Tarifs : 2€/personne (gratuit pour les enfants jusque 12 ans).  En cas de visite du Musée, le ticket d’entrée inclut le spectacle et le jeu de piste : adulte 5€, enfant-étudiant 2€ (gratuit pour les – de 6 ans), senior 4€, famille (habitant sous le même toit) 10€
LOCATION:Rue de la Station, 147700 Mouscron
END:VEVENT
END:VCALENDAR