


BEGIN:VCALENDAR
VERSION:2.0
PRODID:-//Museozoom.be v2016//EN
BEGIN:VEVENT
STATUS:CONFIRMED
DTSTART:19700101
DTEND:20220904
SUMMARY:Exposition "Daniel Pelletti. Peinture à vif" au Mill et au Bois-du-Luc
DESCRIPTION:Le Musée Ianchelevici (Mill) et le Musée de la Mine et du Développement durable (MMDD) présentent conjointement une exposition dédiée à l’œuvre du peintre et dessinateur louviérois Daniel Pelletti. Alors que le Mill revient sur le riche parcours de l&rsquo;artiste, de ses premiers pas dans l&rsquo;atelier de Gustave Camus à ses recherches les plus actuelles, le MMDD présente un focus sur son approche du paysage minier.Natif d&rsquo;Haine-Saint-Paul, Daniel Pelletti est diplômé de l&rsquo;Académie des Beaux-Arts de Mons. Professeur de peinture à l&rsquo;Académie Royale des Beaux-Arts de Bruxelles (1985 à 1996) et à l’École des Arts de Braine-l&rsquo;Alleud (1974 à 1996) dont il sera directeur de 1996 à 2010. L&rsquo;artiste est également membre fondateur des groupes Carré H, Figuration critique Belgique et Quinconce. Daniel Pelletti a reçu de nombreux prix dont le Prix du Hainaut (1979), le Prix Constant Montald de l&rsquo;Académie Royale de Belgique (1980) et le Prix Paul Artôt de l&rsquo;Académie Royale de Belgique (1982).© Daniel PellettiLire plusInformations pratiques
LOCATION:Place communale 217100 La Louvière
END:VEVENT
END:VCALENDAR