


BEGIN:VCALENDAR
VERSION:2.0
PRODID:-//Museozoom.be v2016//EN
BEGIN:VEVENT
STATUS:CONFIRMED
DTSTART:19700101
DTEND:20220904
SUMMARY:Daniel Pelletti. Peinture à vif - Exposition au Bois-du-Luc et au Mill
DESCRIPTION:Du 30 avril au 4 septembre 2022, le Musée Ianchelevici et le Musée de la Mine et du Développement Durable présentent conjointement une exposition dédiée à l&rsquo;œuvre du peintre et dessinateur louviérois Daniel Pelleti.Alors que le Mill dévoile plus de 50 ans de création de cette figure incontournable de la peinture hainuyère, le MMDD propose un focus sur son approche singulière de l&rsquo;art du paysage, et particulièrement des terrils.Une expo « familles admises » : pour les enfants, un carnet du jeune visiteur, créatif et ludique, permet une découverte originale des oeuvres.
LOCATION:Rue Saint-Patrice 2b7110 Houdeng-Aimeries
END:VEVENT
END:VCALENDAR