


BEGIN:VCALENDAR
VERSION:2.0
PRODID:-//Museozoom.be v2016//EN
BEGIN:VEVENT
STATUS:CONFIRMED
DTSTART:19700101
DTEND:19700101
SUMMARY:Instant Famille au Bois-du-Luc
DESCRIPTION:Jusqu&rsquo;au 4 septembre, l&rsquo;artiste louviérois Daniel Pelleti est à l&rsquo;honneur sur le site du Bois-du-Luc !A cette occasion, les familles sont invitées à endosser le rôle d&rsquo;artistes en herbe durant la journée « art en familles », organisée autour de l&rsquo;expo, qui se déroulera ce 26 mai.Rendez-vous à 10h au MMDD et à 14h au MILL pour des ateliers créatifs. Inscription obligatoire : info@boisdulucmmdd.be
LOCATION:Rue Saint-Patrice 2b7110 Houdeng-Aimeries
END:VEVENT
END:VCALENDAR