


BEGIN:VCALENDAR
VERSION:2.0
PRODID:-//Museozoom.be v2016//EN
BEGIN:VEVENT
STATUS:CONFIRMED
DTSTART:19700101
DTEND:19700101
SUMMARY:Nuit au Musée - Espace gallo-romain
DESCRIPTION:Le 14 mai, l&rsquo;Espace gallo-romain ouvre ses portes pour une soirée hors du commun !AfterworkVous travaillez en journée ? Vous n’avez pas l’occasion de visiter les musées aux mêmes horaires que les autres personnes/familles ?  Profitez de cette Nuit au musée pour découvrir notre exposition “L’Age de la Bière”.Date : Le samedi 14 mai 2022Horaire : à partir de 18 heures et fermeture de portes à 23hTarifs : entrée gratuite&nbsp;Escape gamePerséphone, la déesse des Enfers et du printemps, est enfermée à l&rsquo;Espace gallo-romain ! Tentez de la libérer en résolvant des énigmes et en découvrant les indices cachés ! Prenez garde au temps imparti, car si la déesse reste enfermée trop longtemps, elle pourrait plonger le musée dans les ténèbres&#8230; Date : Le samedi 14 mai 2022Horaire : à partir de 18 heures et fermeture de portes à 23hTarifs : entrée gratuite + 5€/personneÀ partir de 5-6 ansRéservation obligatoire: www.espacegalloromain.be
LOCATION:Rue de Nazareth 27800 Ath
END:VEVENT
END:VCALENDAR