


BEGIN:VCALENDAR
VERSION:2.0
PRODID:-//Museozoom.be v2016//EN
BEGIN:VEVENT
STATUS:CONFIRMED
DTSTART:20220601
DTEND:19700101
SUMMARY:Instant famille à Keramis - Sur les traces d'Eleni Kamma
DESCRIPTION:Le Centre de la Gravure et de l&rsquo;Image imprimée expose Eleni Kamma, une artiste grecque qui s’inspire de la ville de La Louvière, de son histoire et de ses traditions. Elle a d&rsquo;ailleurs réinterprété un décor célèbre de la manufacture Boch exposé à Keramis.Rendez-vous au Centre de la Gravure pour découvrir l&rsquo;œuvre d&rsquo;Eleni Kamma avec un parcours-jeux, puis nous vous entraînons à Keramis pour un atelier céramique pour remixer ce fameux décor.L&rsquo;Atelier familles est une activité qui mélange les générations. Il s&rsquo;appuie sur l&rsquo;entraide et la créativité des grandes et petites mains.5 € par personne (gratuit pour les moins de 5 ans)1er juin, de 13h45 à 16h30Plus d&rsquo;infos : service éducatif de Keramis &#8211; edu@keramis.be &#8211; 064 23 60 75  ou service éducatif du Centre de la Gravure &#8211; edu@centredelagravure.be &#8211; 064 27 87 21Inscription : https://www.keramis.be/familles-enfants&nbsp;
LOCATION:Place des Fours-Bouteilles 1,7100 La Louvière
END:VEVENT
END:VCALENDAR