


BEGIN:VCALENDAR
VERSION:2.0
PRODID:-//Museozoom.be v2016//EN
BEGIN:VEVENT
STATUS:CONFIRMED
DTSTART:20220703
DTEND:19700101
SUMMARY:Instant famille à Keramis - Vaisselle Zoomorphe
DESCRIPTION:Inspirez-vous de l&rsquo;exposition Trésors du Musée des Beaux- Arts et de la Céramique de Verviers et notamment des plats à terrine en trompe-l&rsquo;œil afin d&rsquo;imaginer en famille une pièce utilitaire zoomorphe.L&rsquo;Atelier familles est une activité qui mélange les générations. Il s&rsquo;appuie sur l&rsquo;entraide et la créativité des grandes et petites mains.3 juillet, de 14h à 16h5 € par personne (gratuit pour les moins de 5 ans)Plus d&rsquo;infos : service éducatif &#8211; edu@keramis.be &#8211; 064 23 60 75Inscription : https://www.keramis.be/familles-enfants
LOCATION:Place des Fours-Bouteilles 1,7100 La Louvière
END:VEVENT
END:VCALENDAR