


BEGIN:VCALENDAR
VERSION:2.0
PRODID:-//Museozoom.be v2016//EN
BEGIN:VEVENT
STATUS:CONFIRMED
DTSTART:19700101
DTEND:19700101
SUMMARY:Les Napoléoniennes de Ligny 1815
DESCRIPTION:Avis aux amateurs de reconstitutions historiques !Ces 27, 28 et 29 mai, venez vivre un moment hors du temps avec les Napoléoniennes de Ligny !Les troupes alliées ont mis en défense les fermes du village, la vie quotidienne des civils est bousculée, ils doivent abandonner leurs biens et leur travail. On entend l’armée Impériale s’approcher afin d’en découdre une fois pour toute…Pour plus d&rsquo;infos, cliquez ici !
LOCATION:Rue Pont Piraux 235140 Ligny
END:VEVENT
END:VCALENDAR