


BEGIN:VCALENDAR
VERSION:2.0
PRODID:-//Museozoom.be v2016//EN
BEGIN:VEVENT
STATUS:CONFIRMED
DTSTART:20220402
DTEND:19700101
SUMMARY:Exposition "Triage"
DESCRIPTION:« La sauvegarde du Triage-Lavoir du Charbonnage de Beringen : un monument pour l’avenir ». Du 2 avril jusqu&rsquo;au 29 juin, Blegny-Mine accueille une exposition « militante » d’œuvres photographiques autour des triages-lavoirs. Et quel meilleur lieu pour la présenter qu’une partie de notre propre triage-lavoir où sont situées les salles d’exposition ?En Belgique, outre Blegny-Mine, il ne subsiste que trois triage-lavoirs : à Péronnes-les-Binche et à Farciennes dans le Hainaut et à Beringen dans le Limbourg. C’est le danger de démolition ou de dénaturation couru par ce dernier, unique en Flandre, qui a poussé les asbl Het Vervolg et ETWIE à créer cette exposition.Dix photographes nationaux et internationaux ont contribué au projet, mettant en lumière des expériences en Belgique et à l’étranger pour sensibiliser à l’avenir de ce type de patrimoine.Informations pratiques
LOCATION:Rue Lambert Marlet 234670 Blegny
END:VEVENT
END:VCALENDAR