


BEGIN:VCALENDAR
VERSION:2.0
PRODID:-//Museozoom.be v2016//EN
BEGIN:VEVENT
STATUS:CONFIRMED
DTSTART:20220510
DTEND:19700101
SUMMARY:Exposition "Royals & Trains" - Les trains royaux dévoilés pour la première fois !
DESCRIPTION:Du 10 mai 2022 au 22 janvier 2023, Train World, le musée de la SNCB, accueille l’exposition temporaire Royals &amp; Trains. Cette exposition vous offre une occasion unique de découvrir le lien particulier qui unit la famille royale belge au monde ferroviaire.Des photos exclusives, des objets et documents d’époque provenant de nos collections et de celles du Palais royal ainsi que des talking heads de personnalités du passé, vous feront revivre le faste de ces voyages royaux.Exceptionnellement, cinq voitures royales sont dévoilées dans toute leur splendeur pour la première fois à Train World.En savoir plus&#8230;Informations pratiques
LOCATION:Place Princesse Elisabeth 51030 Schaerbeek
END:VEVENT
END:VCALENDAR