


BEGIN:VCALENDAR
VERSION:2.0
PRODID:-//Museozoom.be v2016//EN
BEGIN:VEVENT
STATUS:CONFIRMED
DTSTART:19700101
DTEND:19700101
SUMMARY:Exposition ‘Vestigium temporis’
DESCRIPTION:C’est dans le silence d’une visite à l’Hôpital ND à la Rose que Perrine Moreau et Agnès Arnould ont été impressionnées par ce lieu riche en histoire et en mystères. Plongées dans cet univers de recueillement, elles ont été profondément touchées par un sentiment d’empathie avec celui-ci qui les a poussées à mener ce projet d’exposition passionnant. Cet univers empreint d’humanité a fait vibrer leur sensibilité d’artistes et a fait immédiatement écho à leur travail qui tente d’exprimer depuis toujours les sentiments humains.En savoir plus&#8230;Informations pratiques
LOCATION:Place Alix de Rosoit 17860 Lessines
END:VEVENT
END:VCALENDAR