


BEGIN:VCALENDAR
VERSION:2.0
PRODID:-//Museozoom.be v2016//EN
BEGIN:VEVENT
STATUS:CONFIRMED
DTSTART:20220711
DTEND:19700101
SUMMARY:Stage au Centre belge de la BD
DESCRIPTION:Tu as entre 10 et 14 ans ? Tu es talentueux(euse) et créatif(ve) ? Tu as envie de booster tes capacités et apprendre à mettre en pratique ton dessin pour créer tes propres BD ? Ce stage au Centre Belge de la Bande Dessinée est fait pour toi !• Du 11 au 15/7/22 ou du 16 au 19/8/22 ou du 22/8 au 26/8/22• De 10h00 à 16h00• 135€ (matériel de dessin compris)• Réservation obligatoire : https://www.cbbd.be/fr/animations/les-stages-d-initiation-a-la-bande-dessinee&nbsp;
LOCATION:Rue des Sables 20, 1000 Bruxelles
END:VEVENT
END:VCALENDAR