


BEGIN:VCALENDAR
VERSION:2.0
PRODID:-//Museozoom.be v2016//EN
BEGIN:VEVENT
STATUS:CONFIRMED
DTSTART:19700101
DTEND:19700101
SUMMARY:Exposition "Balade en absurdie. Jacques Charlier"
DESCRIPTION:La nouvelle exposition du Durbuy History &amp; Art Museum, vous plonge au cœur l’univers de l’artiste contemporain liégeois de renommée internationale et à la belgitude assumée, Jacques Charlier. Le DHAM propose une cinquantaine d’œuvres de l’artiste, de 1970 à aujourd’hui, et en exclusivité sa vision caustique et fine qui dépeint 2 années de crises du COVID. Le tout en humour et en peintures, sculptures, photos et vidéos, au cœur de la Halle aux blés, bâtiment classé au patrimoine exceptionnel de Wallonie.Informations pratiques
LOCATION:Rue Comte Théodule d’Ursel 216940 Durbuy
END:VEVENT
END:VCALENDAR