


BEGIN:VCALENDAR
VERSION:2.0
PRODID:-//Museozoom.be v2016//EN
BEGIN:VEVENT
STATUS:CONFIRMED
DTSTART:20220701
DTEND:19700101
SUMMARY:Escale au Musée de la Banque nationale
DESCRIPTION:Victor, le cochon-tirelire, a acheté une ferme grâce à ses économies. Malheureusement, la ferme est en mauvais état et Victor doit la réparer. Aide le petit cochon-tirelire à remettre sa ferme à neuf et complète les différentes missions. Au fil de ton aventure au Musée de la Banque nationale, tu feras la rencontre de chouettes animaux ! Prêt à aider Victor le cochon-tirelire ?Du vendredi 1er juillet au mercredi 31 août 2022 (sauf le jeudi 21 juillet et le lundi 15 août).Du lundi au vendredi, de 9h à 17h.GratuitActivité familiale avec deux niveaux de jeu (4-6 ans et 7-12 ans)
LOCATION:Rue Montagne aux Herbes Potagères, 571000 Bruxelles
END:VEVENT
END:VCALENDAR