


BEGIN:VCALENDAR
VERSION:2.0
PRODID:-//Museozoom.be v2016//EN
BEGIN:VEVENT
STATUS:CONFIRMED
DTSTART:20220707
DTEND:19700101
SUMMARY:Escale au CID - ateliers juillet
DESCRIPTION:Cet été, ce sont les jeudis des familles au CID !Atelier lanterne magiqueViens réaliser ta propre lanterne aux motifs arabisants et fais un vœu. Qui sait ? Tu apercevras peut-être un génie.• Date : 07/07 – 21/07• Horaire : 14h- 16h• Tarifs : Activité gratuite moyennant le droit d’entrée (10€/adulte – 2€/enfant)• Réservation obligatoire&nbsp;Atelier mosaïqueMorceau par morceau et pierre par pierre, construis ta mosaïque colorée. Un peu de créativité et de délicatesse te seront nécessaires.• Date : 14/07 – 28/07• Horaire : 14h- 16h• Tarifs : Activité gratuite moyennant le droit d’entrée (10€/adulte – 2€/enfant)• Réservation obligatoire
LOCATION:Rue Sainte-Louise, 827301 Hornu
END:VEVENT
END:VCALENDAR