


BEGIN:VCALENDAR
VERSION:2.0
PRODID:-//Museozoom.be v2016//EN
BEGIN:VEVENT
STATUS:CONFIRMED
DTSTART:20220804
DTEND:19700101
SUMMARY:Escale au CID - ateliers août
DESCRIPTION:Cet été, ce sont les jeudis en famille au CID !Atelier lanterne magiqueViens réaliser ta propre lanterne aux motifs arabisants et fais un vœu. Qui sait ? Tu apercevras peut-être un génie.Date : 04/08Horaire : 14h- 16hTarifs : Activité gratuite moyennant le droit d’entrée (10€/adulte – 2€/enfant)Réservation obligatoire&nbsp;Atelier mosaïqueMorceau par morceau et pierre par pierre, construis ta mosaïque colorée. Un peu de créativité et de délicatesse te seront nécessaire.Date : 11/08Horaire : 14h- 16hTarifs : Activité gratuite moyennant le droit d’entrée (10€/adulte – 2€/enfant)Réservation obligatoire&nbsp;Atelier sac patrimoineQu’est-ce qui peut être matériel, immatériel ou naturel ? Le Patrimoine ! Grâce à cet atelier, tu sauras tout ce qu’il faut savoir sur ce que c’est et ce qui le compose. Tu pourras ensuite repartir avec un sac en papier décoré de tes éléments patrimoniaux préférés.Date : 18/08 – 25/08Horaire : 14h- 16hTarifs : Activité gratuite moyennant le droit d’entrée (10€/adulte – 2€/enfant)Réservation obligatoire
LOCATION:Rue Sainte-Louise, 827301 Hornu
END:VEVENT
END:VCALENDAR