


BEGIN:VCALENDAR
VERSION:2.0
PRODID:-//Museozoom.be v2016//EN
BEGIN:VEVENT
STATUS:CONFIRMED
DTSTART:20220704
DTEND:20220708
SUMMARY:Stage des 1001 nuits au CID - juillet
DESCRIPTION:Viens découvrir le Moyen-Orient, ses génies, ses tapis volants, ses palais et ses mystères. Calligraphie, mosaïque et fallafels seront au rendez-vous.Date : du 04/07 au 08/07Horaire : 9h-16hTarifs : 80€Réservation obligatoireGarderie possible à partir de 8h et jusque 17h. Collations comprises (hors repas de midi).
LOCATION:Rue Sainte-Louise, 827301 Hornu
END:VEVENT
END:VCALENDAR