


BEGIN:VCALENDAR
VERSION:2.0
PRODID:-//Museozoom.be v2016//EN
BEGIN:VEVENT
STATUS:CONFIRMED
DTSTART:20220703
DTEND:19700101
SUMMARY:Escale au Keramis
DESCRIPTION:Inspirez-vous de l&rsquo;exposition Trésors du Musée des Beaux- Arts et de la Céramique de Verviers et notamment des plats à terrine en trompe-l&rsquo;œil. Imaginez en famille, un plat aux formes de votre animal favori.L&rsquo;atelier famille est une activité qui mélange les générations. Il s&rsquo;appuie sur l&rsquo;entraide et la créativité des grandes et petites mains.Date : 3 juillet 2022Horaire : 14h&gt;16hTarifs : 5 € par personne, gratuit pour les moins de 5 ans.Réservation obligatoire sur www.keramis.be/familles-enfant
LOCATION:Place des Fours-Bouteilles 1,7100 La Louvière
END:VEVENT
END:VCALENDAR