


BEGIN:VCALENDAR
VERSION:2.0
PRODID:-//Museozoom.be v2016//EN
BEGIN:VEVENT
STATUS:CONFIRMED
DTSTART:20220711
DTEND:19700101
SUMMARY:Stage à Keramis
DESCRIPTION:Le temps d&rsquo;une semaine à Keramis, voyage, découvre et façonne l&rsquo;argile en t’inspirant de l’art et de l’artisanat des différentes régions du monde. Des motifs peints des maisons kasséna au Burkina Faso, en passant par la Chine et sa porcelaine translucide et par les curiosités des manufactures européennes, tu découvriras divers usages de terre et de la céramique, issus des quatre coins de la planète.Ce stage s’inspire des expositions 20 mondes. Treasure Bowls Collection et Trésors des Musées des Beaux-arts et de la céramique de Verviers.Date : 11&gt;15 juillet 2022Horaire : 9h&gt;16hTarifs : 95€, 85€ pour le deuxième enfant vivant sous le même toit.Réservation obligatoire sur www.keramis.be/familles-enfantsPour les 6&gt; 12 ans&nbsp;
LOCATION:Place des Fours-Bouteilles 1,7100 La Louvière
END:VEVENT
END:VCALENDAR