


BEGIN:VCALENDAR
VERSION:2.0
PRODID:-//Museozoom.be v2016//EN
BEGIN:VEVENT
STATUS:CONFIRMED
DTSTART:20220708
DTEND:19700101
SUMMARY:Escale au MACS
DESCRIPTION:Chaque jeudi des vacances, viens t’amuser avec ta famille au musée. Après la visite ludique des expositions, participe à un atelier de création de potion magique.Date : tous les jeudis de juillet et aoûtHoraire : à 11hTarifs : gratuit moyennant le paiement du droit d’entrée aux expositions ( 10€, 6€, 2€)Réservation souhaitée : reservations@grand-hornu.be +32(0)65 613.902Une deuxième activité famille à 14h est proposée chez nos amis du CID également implanté sur le site du Grand-Hornu.
LOCATION:Rue Sainte-Louise 827301 Hornu
END:VEVENT
END:VCALENDAR