


BEGIN:VCALENDAR
VERSION:2.0
PRODID:-//Museozoom.be v2016//EN
BEGIN:VEVENT
STATUS:CONFIRMED
DTSTART:20220808
DTEND:20220812
SUMMARY:Stage au MACS
DESCRIPTION:S’inspirant des sculptures en plâtre des expositions Aline Bouvy. Cruising Bye et Gaillard &amp; Claude. A Certain Decade, ce stage sera l’occasion d’expérimenter plusieurs techniques à partir de ce matériau.Date : Du 8 au 12 aoûtHoraire : de 9 à 16hTarifs : 80 € (collations comprises. Repas de midi à prévoir)Réservation obligatoire : reservations@grand-hornu.be +32(0)65 613.902Pour les enfants de 9 à 12 ans
LOCATION:Rue Sainte-Louise 827301 Hornu
END:VEVENT
END:VCALENDAR