


BEGIN:VCALENDAR
VERSION:2.0
PRODID:-//Museozoom.be v2016//EN
BEGIN:VEVENT
STATUS:CONFIRMED
DTSTART:19700101
DTEND:19700101
SUMMARY:Escale au Musée Ianchelevici
DESCRIPTION:En 2022, Pol BURY aurait eu 100 ans ! L’occasion de revenir sur la personnalité et le travail de cet artiste belge de renommée internationale !Participez à un atelier de coulée du métal après avoir observé les œuvres de Pol BURY qui se trouvent dans le Centre-ville de La Louvière.Date : 21 juillet 2022Horaire : de 9 à 16hPrévoir pique-niqueSur réservation : edu@lemill.be 064 28 25 30
LOCATION:Place communale 217100 La Louvière
END:VEVENT
END:VCALENDAR