


BEGIN:VCALENDAR
VERSION:2.0
PRODID:-//Museozoom.be v2016//EN
BEGIN:VEVENT
STATUS:CONFIRMED
DTSTART:20220711
DTEND:19700101
SUMMARY:Stage au Mill - juillet
DESCRIPTION:Un stage entre nature et culture qui s&rsquo;articule sur deux musées louviérois !Une collaboration imaginée dans le cadre de l&rsquo;exposition « Daniel Pelletti. Peinture à vif » présentée conjointement au Mill au MMDD. Découverte de deux musées, ateliers artistiques et balades nature : un stage sur mesure pour jeunes aventuriers de l&rsquo;art !Date : Du 11 au 15 juillet 2022 [11 au 13 au Musée Ianchelevici La Louvière (Mill) et 14 et 15 au Musée de la Mine et du Développement durable (MMDD)]Horaire : 9-16h. Accueil dès 8h30. Garderie uniquement au MMDD jusque 17h.Tarifs : 75 € (paiement séparé par lieux. 15€/jour)Réservation obligatoire/souhaitée ? :obligatoire sur edu@lemill.be ou 064 28 25 308 &#8211; 12 ansPrévoir pique-nique et collationInscriptions auprès du Mill&nbsp;
LOCATION:Place communale 217100 La Louvière
END:VEVENT
END:VCALENDAR