


BEGIN:VCALENDAR
VERSION:2.0
PRODID:-//Museozoom.be v2016//EN
BEGIN:VEVENT
STATUS:CONFIRMED
DTSTART:20220808
DTEND:20220812
SUMMARY:Stage au Mill - août
DESCRIPTION:Un stage artistique pluridisciplinaire pour tous ceux qui aiment créer, penser, imaginer !Terre, plâtre, dessin, peinture, land art&#8230; Laissez-vous inspirer par les richesses du musée : les sculptures et dessins d&rsquo;Idel Ianchelevici et les oeuvres de l&rsquo;artiste louviérois Daniel Pelletti exposées jusqu&rsquo;à la fin des vacances scolaires.Date : Du 8 au 12 août 2022Horaire : 9 à 16h. Accueil non encadré à partir de 8h30.Tarifs : 75 €6 &#8211; 12 ansPrévoir pique-nique et collation&nbsp;
LOCATION:Place communale 217100 La Louvière
END:VEVENT
END:VCALENDAR