


BEGIN:VCALENDAR
VERSION:2.0
PRODID:-//Museozoom.be v2016//EN
BEGIN:VEVENT
STATUS:CONFIRMED
DTSTART:20220801
DTEND:20220805
SUMMARY:Stage au Musée de la Photographie
DESCRIPTION:Un stage de photographie pas comme les autres où la photographie cinétique sera la star. Nous vous proposons de nous rejoindre dans un carrousel d’expériences autour de la photographie bien sûr. Le mot d’ordre sera expérimentation ! Différentes techniques photographiques seront abordées.Date : lundi 1er août 2022- vendredi 05 août 2022Horaire : 9h30 à 16hTarifs : 70€Réservation : service.educatif@museephoto.be6-12 ans&nbsp;
LOCATION:Avenue Paul Pastur 116032 Charleroi
END:VEVENT
END:VCALENDAR