


BEGIN:VCALENDAR
VERSION:2.0
PRODID:-//Museozoom.be v2016//EN
BEGIN:VEVENT
STATUS:CONFIRMED
DTSTART:19700101
DTEND:19700101
SUMMARY:Stage au Musée du Carnaval et du Masque
DESCRIPTION:Cirque au musée !Entre jonglerie, trapèze, jeux et ateliers créatifs, cet été, l’équipe du Musée te propose de découvrir l’art du cirque sous toutes ses formes lors d’un stage organisé en collaboration avec Crazy Circus.Date : Du 18 au 20 juillet 2022Horaire : De 9h à 16h (possibilité de garderie de 8h à 9h et de 16h à 17h)Tarifs : 60€Réservation obligatoire/souhaitée ? : Réservation obligatoire au 064 33 57 41 ou par mail accueil@museedumasque.bePour les enfants de 8 à 14 ans
LOCATION:Rue Saint Moustier 107130 Binche
END:VEVENT
END:VCALENDAR