


BEGIN:VCALENDAR
VERSION:2.0
PRODID:-//Museozoom.be v2016//EN
BEGIN:VEVENT
STATUS:CONFIRMED
DTSTART:20220705
DTEND:20220708
SUMMARY:Stages au Musée royal de Mariemont - juillet
DESCRIPTION:3 pas en avant, 3 pas en arrièreRegarder des livres et des objets pour inventer mille histoires, bouger comme les personnages, danser comme un dragon, se trainer comme une tortue ou déambuler comme un chameau. Le tout en laissant la musique emporter notre imagination.Du mardi 5 au vendredi 8 juillet 2022De 10h à 16hStage pour les enfants de 3 à 5 ansParticipation : 60€ pour les 4 jours&nbsp;Coutumes et traditions d&rsquo;Asie et d&rsquo;ailleursLe papier, le thé, la porcelaine… autant de traditions originaires d’Asie, de Chine ou du Japon que nous connaissons encore aujourd’hui peut-être sous d’autres formes. Découvrons-en certaines d’ici ou d’ailleurs, d’hier et de maintenant. Goûtons, plions, modelons, dessinons… en un mot expérimentons !Du mardi 5 au vendredi 8 juillet 2022Stage pour les enfants de 6 à 12 ansParticipation : 60€ pour les 4 jours.
LOCATION:Chaussée de Mariemont, 1007140 Morlanwelz
END:VEVENT
END:VCALENDAR