


BEGIN:VCALENDAR
VERSION:2.0
PRODID:-//Museozoom.be v2016//EN
BEGIN:VEVENT
STATUS:CONFIRMED
DTSTART:19700101
DTEND:19700101
SUMMARY:Stage au MMIL
DESCRIPTION:Tu as entre 6 et 8 ans et tu as envie de faire le plein de découvertes et d&rsquo;amusement ? Viens à la Fabrik, le stage organisé par la MMIL.Au programme : des activités créatives et éducatives, des promenades ludiques, des découvertes inattendues&#8230; et le montage d’une exposition dont tu seras le héros ou l’héroïne !Date : du 25 juillet au 29 juillet 2022Horaire : de 9h à 16h15 (garderie de 8h à 9h et de 16h15 à 17h15)Tarifs : 65 € / semaine (collation comprise)Réservation obligatoire/souhaitée ? : réservation obligatoireProgramme complet sur demande à Maëlle ou Xavier au 04 342 65 63&nbsp;
LOCATION:Boulevard Raymond Poincaré 174020 Liège
END:VEVENT
END:VCALENDAR