


BEGIN:VCALENDAR
VERSION:2.0
PRODID:-//Museozoom.be v2016//EN
BEGIN:VEVENT
STATUS:CONFIRMED
DTSTART:20220706
DTEND:19700101
SUMMARY:Escale au Musée de la Vie wallonne - juillet
DESCRIPTION:Le Magasin des JouetsPoupées, voitures, ours en peluche et autres petits robots font le bonheur des enfants depuis des générations. Mais quelle est leur histoire ? Pourquoi et comment jouer avec ? Les jouets ont-ils un genre ? C&rsquo;est à toutes ces questions et bien d&rsquo;autres encore que cette animation répondra par le biais de différents jeux !Date : Les 6 et 27 juillet 2022Horaire : 14h30Tarifs : 5 eurosRéservation obligatoire6 &#8211; 12 ans&nbsp;Les animaux et moi !Pars à la rencontre des animaux et de nos rapports avec eux à travers l&rsquo;amour, la gloire et la beauté. L&rsquo;exploration du travail artistique de plusieurs photographes amoureux des animaux sera ponctuée d&rsquo;activités ludiques. Ensuite, tu découvriras, au départ d&rsquo;expressions populaires, quatre animaux phares de notre région : le coq, le chien, la vache et le cheval.Date : Les 13 et 20 juillet 2022Horaire : 14h30Tarifs : 5 eurosRéservation obligatoire6 &#8211; 12 ans&nbsp;
LOCATION:Cour des Mineurs4000 Liège
END:VEVENT
END:VCALENDAR