


BEGIN:VCALENDAR
VERSION:2.0
PRODID:-//Museozoom.be v2016//EN
BEGIN:VEVENT
STATUS:CONFIRMED
DTSTART:20220704
DTEND:19700101
SUMMARY:Stage au Musée de la Vie wallonne - juillet
DESCRIPTION:Mission zéro déchetTu es créatif et soucieux de la planète ? Durant cette semaine, tu réaliseras, à partir d&rsquo;éléments trouvés dans la nature ou récupérés, des jouets, des objets de décoration et encore bien d&rsquo;autres choses. Un stage riche en apprentissage et surtout en amusement !Date : du 4 au 8 juillet 2022Horaire : de 9h à 16h (avec possibilité de garderie dès 8h30 et jusque 17h)Tarifs : 50 eurosRéservation obligatoire au 04/279.20.16Enfants de 6 à 9 ans&nbsp;Récup’artTu as une âme d&rsquo;artiste et un rien t&rsquo;inspire ? Différents ateliers créatifs te permettront de créer des œuvres d&rsquo;art, des objets du quotidien ou encore des accessoires à partir de matériaux récupérés. De nombreux jeux et activités découvertes viendront ponctuer semaine. Viens vivre une fabuleuse expérience au musée !Date : du 18 au 22 juillet 2022 (Attention : le stage n&rsquo;est pas assuré le 21 juillet)Horaire : de 9h à 16h (avec possibilité de garderie dès 8h30 et jusque 17h)Tarifs : 40 eurosRéservation obligatoire au 04/279.20.16Autre(s) info(s) : enfants de 9 à 12 ans
LOCATION:Cour des Mineurs4000 Liège
END:VEVENT
END:VCALENDAR