


BEGIN:VCALENDAR
VERSION:2.0
PRODID:-//Museozoom.be v2016//EN
BEGIN:VEVENT
STATUS:CONFIRMED
DTSTART:19700101
DTEND:19700101
SUMMARY:Stage au Musée des Transports en commun
DESCRIPTION:Cet été, le Musée des Transports et Atelier Graffiti te proposent un voyage dans l&rsquo;univers de l&rsquo;expression végétale. Tu pourras créer les véhicules du futur en te servant d&rsquo;éléments naturels récoltés en promenade.Date : du 16 au 19 aoûtHoraire : de 9h à 16h (garderie dès 8h30 et jusqu’à 16h30)Tarifs : 80 euros / semaine &#8211; 144 euros / 2 enfants &#8211; 195 euros / 3 enfants• Réservation obligatoire auprès d’Atelier Graffiti : 04/349 03 00 ou ateliergraffiti@skynet.be
LOCATION:Rue Richard Heintz, 94020 Liège
END:VEVENT
END:VCALENDAR