


BEGIN:VCALENDAR
VERSION:2.0
PRODID:-//Museozoom.be v2016//EN
BEGIN:VEVENT
STATUS:CONFIRMED
DTSTART:19700101
DTEND:19700101
SUMMARY:Stage au Musée Gaspar - juillet
DESCRIPTION:Chaque jour, tu vas découvrir une nouvelle technique artistique basée sur les œuvres du musée. Tu pourras développer ta créativité grâce à la photographie, la sculpture, le land art, la gravure et le dessin.Date : Du 25 au 29 juilletHoraire : 9h à 16hTarifs : 100€Réservation obligatoire6-12ans&nbsp;
LOCATION:Rue des Martyrs 166700 Arlon
END:VEVENT
END:VCALENDAR