


BEGIN:VCALENDAR
VERSION:2.0
PRODID:-//Museozoom.be v2016//EN
BEGIN:VEVENT
STATUS:CONFIRMED
DTSTART:19700101
DTEND:19700101
SUMMARY:Stage au Musée Gaspar - août
DESCRIPTION:Viens créer une animation en stop motion dans l’univers des frères Gaspar. Ecriture d’un scénario, modelage, prise de vue, animation et montage sur tablette ; voici les étapes principales que tu réaliseras dans ce stage. Le dernier jour, projection de vos créations !Date : Du 22 au 26 aoûtHoraire : 9h à 12hTarifs : 50€Réservation obligatoire10-14ans
LOCATION:Rue des Martyrs 166700 Arlon
END:VEVENT
END:VCALENDAR