


BEGIN:VCALENDAR
VERSION:2.0
PRODID:-//Museozoom.be v2016//EN
BEGIN:VEVENT
STATUS:CONFIRMED
DTSTART:20220707
DTEND:19700101
SUMMARY:Escale au Piconrue - Musée de la Grande Ardenne
DESCRIPTION:Sans internet, console de jeux ni même télévision, comment s’occupaient les petits ardennais ? En famille, venez découvrir les jeux d’autrefois et jouez à votre tour !Date : 7 juillet, 19 juillet, 12 août, 18 aoûtHoraire : de 14h à 15h30Tarifs : 5 euros par personneRéservation souhaitée au 061/55.00.55 ou via publics@piconrue.be
LOCATION:Place en Piconrue, 26600 Bastogne
END:VEVENT
END:VCALENDAR