


BEGIN:VCALENDAR
VERSION:2.0
PRODID:-//Museozoom.be v2016//EN
BEGIN:VEVENT
STATUS:CONFIRMED
DTSTART:19700101
DTEND:19700101
SUMMARY:Escale au Computer Nam-Ip - juillet
DESCRIPTION:Super Mario au Computer MuseumParcours les 4 mondes et réussis l’épreuve finale afin de délivrer Peach et d&rsquo;obtenir une récompense !Date : 15 juilletHoraire : 13h à 17hTarifs : 6€ par personneRéservation vivement conseillée&nbsp;Chasse au trésor et goûterUn bug informatique a fait disparaître le trésor du musée. Parcours les collections et remonte la piste du trésor. Sauras-tu résoudre les énigmes et décoder le puzzle qui te mènera à ta récompense ? Après l&rsquo;effort, le réconfort : les explorateurs dégusteront un goûterDate : 22 juilletHoraire : 13h à 17hTarifs : 6€ par personneRéservation vivement conseilléeDernière entrée à 16h&nbsp;Chasse aux PokémonViens t&rsquo;amuser en famille au Computer Museum en participant à une chasse aux Pokémon. Parcours le musée en quête de réponses. Ensuite, pars à la recherche des Pokémon pour les capturer ! Des récompenses sont à gagner selon le nombre de Pokémons attrapés !• Date : 29 juillet• Horaire : 13h à 17h• Tarifs : 6€ par personne• Réservation vivement conseillée• Dernière entrée à 16h
LOCATION:rue Henri Blès 192a5000 Namur
END:VEVENT
END:VCALENDAR