


BEGIN:VCALENDAR
VERSION:2.0
PRODID:-//Museozoom.be v2016//EN
BEGIN:VEVENT
STATUS:CONFIRMED
DTSTART:20220608
DTEND:19700101
SUMMARY:Escale au Computer Nam-Ip
DESCRIPTION:Les petits experts en jeux vidéoVous recherchez une activité pour vos enfants les vacances ? Le Computer Museum organise une journée de découverte ludique du musée qui associe l&rsquo;informatique et les jeux vidéo !Au programme : visite ludique, chasse aux Pokémon, découverte de la programmation avec Mario et codage avec Donkey Kong.Date : 8 juillet et 18 aoûtHoraire : 10h à 16hTarifs : 12€ (premier enfant), 10€ (second enfant) et 8€ (troisième enfant ou plus).Réservation obligatoire max. 3 jours avant la date du stage6-12 ans. Min 5 inscrits et max 15 
LOCATION:rue Henri Blès 192a5000 Namur
END:VEVENT
END:VCALENDAR