


BEGIN:VCALENDAR
VERSION:2.0
PRODID:-//Museozoom.be v2016//EN
BEGIN:VEVENT
STATUS:CONFIRMED
DTSTART:19700101
DTEND:19700101
SUMMARY:Escale à Malagne
DESCRIPTION:Le Rendez-vous gallo-romain de l’étéPrêts à embarquer pour un voyage dans le temps en remontant 2000 ans d’Histoire ? Envie de découvrir le quotidien de nos ancêtres gallo-romains ?Les 16 et 17 juillet 2022, la villa gallo-romaine de Malagne reprendra vie !Au programme ; combats entre gladiateurs, affrontements entre légionnaires romains et guerriers celtes, tir à l’arc, fabrication de bijoux, poterie, etc.Un rendez-vous qui ravira toute la famille !Date : 16 et 17 juilletHoraire : De 11h à 18hTarifs : Adulte : 11 euros – Enfant : 8 euros – Senior : 9 eurosRéservation possible sur www.malagne.beBar, pains saucisses, aires de pique-nique
LOCATION:Rue du Coirbois 855580 Rochefort
END:VEVENT
END:VCALENDAR