


BEGIN:VCALENDAR
VERSION:2.0
PRODID:-//Museozoom.be v2016//EN
BEGIN:VEVENT
STATUS:CONFIRMED
DTSTART:20220701
DTEND:19700101
SUMMARY:Escale à l'Espace muséal d'Andenne
DESCRIPTION:Pass 1 jour en Préhistoire à AndennePasser une journée à Andenne et tout découvrir de la Préhistoire et de l’archéologie ? C’est possible grâce aux activités prévues cet été à l’Espace muséal d’Andenne et dans la Grotte Scladina !Glisse-toi dans la peau d’un enfant qui découvre les peintures animales d’une grotte préhistorique dans l’exposition « Les secrets de la Grotte Chauvet : l’art des origines révélé par la 3D » (dès le 24 juin) et poursuis ton aventure par la découverte du métier d’archéologue en visitant une grotte préhistorique. Dans la Grotte Scladina, tu pourras poser toutes les questions qui te turlupinent sur la Préhistoire car nos fouilleurs y travaillent tous les jours ! Les ours et les lions des cavernes n’auront plus de secret pour toi après une journée à Andenne !Du 1er juillet au 31 aoûtExpo « Les secrets de la Grotte Chauvet » : à l’EMA du mardi au dimanche, de 10h à 18hVisite de la Grotte Scladina : du mercredi au dimanche à 14h (FR) et à 16h (NL)PASS 1 JOUR PREHISTOIRE (expo + grotte Scladina)Adulte : 15 EUR &#8211; De 6 à 18 ans : 7 EUR &#8211; Moins de 6 ans : gratuitExpo « Les secrets de la Grotte Chauvet » seulement : Adulte : 12 EUR &#8211; De 6 à 18 ans : 5 EUR – Moins de 6 ans : gratuitGrotte Scladina seulement : Adultes : 8 € &#8211; Seniors : 6 € &#8211; 6 – 18 ans : 4 € – moins de 6 ans : gratuitRéservation obligatoire sur www.expochauvet.be&nbsp;
LOCATION:Rue Fond des Vaux 339D5300 Andenne (Sclayn)
END:VEVENT
END:VCALENDAR