


BEGIN:VCALENDAR
VERSION:2.0
PRODID:-//Museozoom.be v2016//EN
BEGIN:VEVENT
STATUS:CONFIRMED
DTSTART:20220704
DTEND:20220708
SUMMARY:Stage à l'Espace muséal d'Andenne
DESCRIPTION:Tu veux tout savoir du métier d’archéologue ? Passe une semaine à la Grotte Scladina avec des fouilleurs qui te livreront toutes leurs astuces sur le terrain de fouilles !Profites-en pour apprendre à décorer ta propre grotte grâce aux méthodes artistiques utilisées par les hommes préhistoriques. N’aie pas peur de te salir les mains, embarque ta bonne humeur et de bonnes chaussures pour cette aventure au cœur de la Préhistoire !Date : du 4 au 8 juillet 2022Horaire : de 9h à 16h – Garderie : de 8h à 17hTarifs : 120 eur la semaineRéservation obligatoire via animation@ema.museum&nbsp;
LOCATION:Rue Fond des Vaux 339D5300 Andenne (Sclayn)
END:VEVENT
END:VCALENDAR