


BEGIN:VCALENDAR
VERSION:2.0
PRODID:-//Museozoom.be v2016//EN
BEGIN:VEVENT
STATUS:CONFIRMED
DTSTART:19700101
DTEND:19700101
SUMMARY:6ème Salon « L’Art de Livre »
DESCRIPTION:Salon du livre neuf.Des auteurs, des éditeurs, du livre tous publics, avec un espace pour les enfants, des contes, des jeux, un peu de BD, des artisans liés aux métiers littéraires, relieurs, illustrateurs, créateurs. Et pour votre confort de lecture, mobilier de bibliothèque, sièges et bien d’autres curiosités…Dédicaces, animations, bar et restauration dans une ambiance festive et conviviale.
LOCATION:Rue Lambert Marlet 234670 Blegny
END:VEVENT
END:VCALENDAR