


BEGIN:VCALENDAR
VERSION:2.0
PRODID:-//Museozoom.be v2016//EN
BEGIN:VEVENT
STATUS:CONFIRMED
DTSTART:20220807
DTEND:19700101
SUMMARY:Escale au DELTA - août
DESCRIPTION:Le dimanche 7 août, entre 14h et 17h, pendant que tes parents découvrent l’exposition The circus we are gratuitement, nous te proposons l’atelier créatif Comme un funambule : grâce à la sculpture au fil de fer, défie les lois de l’équilibre pour un moment de création légère, aérienne et poétique.Date : 07/08/2022Horaire : 14h-17hTarif : gratuitInscriptions : sur placeDe 6 à 12 ans. Exposition accessible gratuitement de 10h à 18h. Visites guidées flash à 14h et 16h&nbsp;
LOCATION:18, avenue Golenvaux,5000 - Namur
END:VEVENT
END:VCALENDAR