


BEGIN:VCALENDAR
VERSION:2.0
PRODID:-//Museozoom.be v2016//EN
BEGIN:VEVENT
STATUS:CONFIRMED
DTSTART:19700101
DTEND:19700101
SUMMARY:Stages au DELTA - juillet
DESCRIPTION:Cirque ZouplaboumBienvenue sur la piste ! Clowns, magiciens, jongleurs et acrobates font chanter et danser les participants au rythme de la baguette du chef d’orchestre et de Monsieur Loyal ! Durant 4 jours, pars à la découverte du monde du cirque par le rythme, les chants, les danses et les percussions. Et durant deux après-midis, les assiettes chinoises, les diabolos, les balles,… envahissent la piste et te mettent au défi de les apprivoiser.Date : du 18 au 22/07/2022 (4 jours)Horaire : 9h &#8211; 16hTarifs : 48 €Réservation obligatoire : https://www.ledelta.be/evenements/le-cirque-zouplaboum/De 4 à 6 ans&nbsp;MAGIC CIRCUSJongleurs, acrobates, funambules, clown,… le monde fabuleux du cirque s’invite tous les matins, et pousse chacun à dépasser ses peurs et ses limites. Les après-midis, place à l’imaginaire et à la créativité ! Il s’agit de fabriquer nos propres balles de jonglerie, de réaliser des sculptures qui pendent comme des trapézistes et de produire le décor qui servira à la petite représentation du dernier jour. Une semaine bondissante, qui ouvre les portes d’un univers magique, plein de lumière et de couleurs.Date : du 25 au 29/07/2022Horaire : 9h &#8211; 16hTarifs : 60 €Réservation obligatoire : https://www.ledelta.be/evenements/magic-circus/De 6 à 8 ans
LOCATION:18, avenue Golenvaux,5000 - Namur
END:VEVENT
END:VCALENDAR